BEGIN:VCALENDAR
VERSION:2.0
PRODID:-//EDC - ECPv6.15.17.1//NONSGML v1.0//EN
CALSCALE:GREGORIAN
METHOD:PUBLISH
X-WR-CALNAME:EDC
X-ORIGINAL-URL:https://www.edcsarasotacounty.com
X-WR-CALDESC:Events for EDC
REFRESH-INTERVAL;VALUE=DURATION:PT1H
X-Robots-Tag:noindex
X-PUBLISHED-TTL:PT1H
BEGIN:VTIMEZONE
TZID:UTC
BEGIN:STANDARD
TZOFFSETFROM:+0000
TZOFFSETTO:+0000
TZNAME:UTC
DTSTART:20250101T000000
END:STANDARD
END:VTIMEZONE
BEGIN:VEVENT
DTSTART;TZID=UTC:20260827T090000
DTEND;TZID=UTC:20260827T110000
DTSTAMP:20260424T143532
CREATED:20250905T160519Z
LAST-MODIFIED:20260415T194330Z
UID:37087-1787821200-1787828400@www.edcsarasotacounty.com
SUMMARY:EDC Board of Directors Meeting
DESCRIPTION:A meeting of the Board of Directors of the Economic Development Corporation of Sarasota County will be held on Thursday\, August 27\, 9:00 a.m.\, 2026\, at Venice City Hall\, Community Room\, 401 W. Venice Ave\, Venice\, FL 34285. Public welcome to attend.
URL:https://www.edcsarasotacounty.com/event/edc-board-of-directors-meeting-45/
LOCATION:Venice City Hall\, Community Room\, 401 W Venice Ave. FL\, Venice\, FL\, 34285\, United States
CATEGORIES:Noticed Meeting,Public
END:VEVENT
END:VCALENDAR