BEGIN:VCALENDAR
VERSION:2.0
PRODID:-//EDC - ECPv6.15.17.1//NONSGML v1.0//EN
CALSCALE:GREGORIAN
METHOD:PUBLISH
X-ORIGINAL-URL:https://www.edcsarasotacounty.com
X-WR-CALDESC:Events for EDC
REFRESH-INTERVAL;VALUE=DURATION:PT1H
X-Robots-Tag:noindex
X-PUBLISHED-TTL:PT1H
BEGIN:VTIMEZONE
TZID:UTC
BEGIN:STANDARD
TZOFFSETFROM:+0000
TZOFFSETTO:+0000
TZNAME:UTC
DTSTART:20250101T000000
END:STANDARD
END:VTIMEZONE
BEGIN:VEVENT
DTSTART;TZID=UTC:20260428T113000
DTEND;TZID=UTC:20260428T130000
DTSTAMP:20260422T162355
CREATED:20260302T185814Z
LAST-MODIFIED:20260302T185814Z
UID:42031-1777375800-1777381200@www.edcsarasotacounty.com
SUMMARY:EDC Sarasota County Technology & Innovation Council Meeting
DESCRIPTION:The Economic Development Corporation of Sarasota County is hosting a Technology & Innovation Council Meeting on April 28 at 11:30am at Rite Technology\, 1744 Independence Boulevard\, Sarasota\, FL 34234. Public welcome to attend.
URL:https://www.edcsarasotacounty.com/event/edc-sarasota-county-technology-innovation-council-meeting/
LOCATION:Rite Technology\, 1744 Independence Boulevard\, Sarasota\, FL\, 34234\, United States
CATEGORIES:Legal Notice,Noticed Meeting
END:VEVENT
END:VCALENDAR