BEGIN:VCALENDAR
VERSION:2.0
PRODID:-//EDC - ECPv6.15.17.1//NONSGML v1.0//EN
CALSCALE:GREGORIAN
METHOD:PUBLISH
X-WR-CALNAME:EDC
X-ORIGINAL-URL:https://www.edcsarasotacounty.com
X-WR-CALDESC:Events for EDC
REFRESH-INTERVAL;VALUE=DURATION:PT1H
X-Robots-Tag:noindex
X-PUBLISHED-TTL:PT1H
BEGIN:VTIMEZONE
TZID:UTC
BEGIN:STANDARD
TZOFFSETFROM:+0000
TZOFFSETTO:+0000
TZNAME:UTC
DTSTART:20250101T000000
END:STANDARD
END:VTIMEZONE
BEGIN:VEVENT
DTSTART;TZID=UTC:20260415T090000
DTEND;TZID=UTC:20260415T100000
DTSTAMP:20260424T095924
CREATED:20250801T160142Z
LAST-MODIFIED:20250801T160142Z
UID:36171-1776243600-1776247200@www.edcsarasotacounty.com
SUMMARY:EDC Executive Committee Meeting
DESCRIPTION:A meeting of the Executive Committee of the Economic Development Corporation of Sarasota County will be held on Wednesday\, April 15\, 2026\, 9:00 a.m.\, at 301 N. Cattlemen Road\, Sarasota\, FL 34232 in the First Floor Conference Room. Public welcome to participate.
URL:https://www.edcsarasotacounty.com/event/edc-executive-committee-meeting-20/
LOCATION:EDC of Sarasota County\, 301 N Cattlemen Rd\, First Floor Conference Room\, Sarasota\, FL\, 34232\, United States
CATEGORIES:Noticed Meeting,Public
END:VEVENT
BEGIN:VEVENT
DTSTART;TZID=UTC:20260415T100000
DTEND;TZID=UTC:20260415T110000
DTSTAMP:20260424T095924
CREATED:20250801T160230Z
LAST-MODIFIED:20260327T192001Z
UID:36172-1776247200-1776250800@www.edcsarasotacounty.com
SUMMARY:EDC Governance & Leadership Committee Meeting
DESCRIPTION:A meeting of the Governance & Leadership Committee of the Economic Development Corporation of Sarasota County will be held on Wednesday\, April 15\, 2026\, 10:00 a.m.\, at 301 N. Cattlemen Road\, Sarasota\, FL 34232 in the First Floor Conference Room. Public welcome to participate.
URL:https://www.edcsarasotacounty.com/event/edc-governance-committee-meeting-31/
LOCATION:EDC of Sarasota County\, 301 N Cattlemen Rd\, First Floor Conference Room\, Sarasota\, FL\, 34232\, United States
CATEGORIES:Noticed Meeting,Public
END:VEVENT
END:VCALENDAR