BEGIN:VCALENDAR
VERSION:2.0
PRODID:-//EDC - ECPv6.15.17.1//NONSGML v1.0//EN
CALSCALE:GREGORIAN
METHOD:PUBLISH
X-ORIGINAL-URL:https://www.edcsarasotacounty.com
X-WR-CALDESC:Events for EDC
REFRESH-INTERVAL;VALUE=DURATION:PT1H
X-Robots-Tag:noindex
X-PUBLISHED-TTL:PT1H
BEGIN:VTIMEZONE
TZID:UTC
BEGIN:STANDARD
TZOFFSETFROM:+0000
TZOFFSETTO:+0000
TZNAME:UTC
DTSTART:20250101T000000
END:STANDARD
END:VTIMEZONE
BEGIN:VEVENT
DTSTART;TZID=UTC:20260109T100000
DTEND;TZID=UTC:20260109T110000
DTSTAMP:20260422T192257
CREATED:20251212T201005Z
LAST-MODIFIED:20251212T201631Z
UID:39888-1767952800-1767956400@www.edcsarasotacounty.com
SUMMARY:EDC Financial and Office Policies Task Force
DESCRIPTION:A meeting of the Financial and Office Policies Task Force of the Economic Development Corporation of Sarasota County will be held on Friday\, January 9\, 2026\, 10:00am at 301 N. Cattlemen Rd.\, First Floor Conference Room\, Sarasota\, FL 34232. Public welcome to participate.
URL:https://www.edcsarasotacounty.com/event/edc-financial-and-office-policies-task-force/
LOCATION:EDC of Sarasota County\, 301 N Cattlemen Rd\, First Floor Conference Room\, Sarasota\, FL\, 34232\, United States
CATEGORIES:Legal Notice,Noticed Meeting,Public
END:VEVENT
BEGIN:VEVENT
DTSTART;TZID=UTC:20260121T090000
DTEND;TZID=UTC:20260121T100000
DTSTAMP:20260422T192257
CREATED:20260106T142902Z
LAST-MODIFIED:20260106T142957Z
UID:40453-1768986000-1768989600@www.edcsarasotacounty.com
SUMMARY:Special Meeting of the EDCSC Governance Committee
DESCRIPTION:A Special Meeting of the Governance Committee of the Economic Development Corporation of Sarasota County will be held on Wednesday\, January 21\, 9:00 a.m.\, at 301 N. Cattlemen Road\, Sarasota\, FL 34232\, First Floor Conference Room. Public welcome to participate.
URL:https://www.edcsarasotacounty.com/event/special-meeting-of-the-edcsc-governance-committee/
LOCATION:EDC of Sarasota County\, 301 N Cattlemen Rd\, First Floor Conference Room\, Sarasota\, FL\, 34232\, United States
CATEGORIES:Legal Notice,Noticed Meeting,Public
END:VEVENT
END:VCALENDAR