BEGIN:VCALENDAR
VERSION:2.0
PRODID:-//EDC - ECPv6.15.17.1//NONSGML v1.0//EN
CALSCALE:GREGORIAN
METHOD:PUBLISH
X-ORIGINAL-URL:https://www.edcsarasotacounty.com
X-WR-CALDESC:Events for EDC
REFRESH-INTERVAL;VALUE=DURATION:PT1H
X-Robots-Tag:noindex
X-PUBLISHED-TTL:PT1H
BEGIN:VTIMEZONE
TZID:UTC
BEGIN:STANDARD
TZOFFSETFROM:+0000
TZOFFSETTO:+0000
TZNAME:UTC
DTSTART:20240101T000000
END:STANDARD
END:VTIMEZONE
BEGIN:VEVENT
DTSTART;TZID=UTC:20251210T090000
DTEND;TZID=UTC:20251210T100000
DTSTAMP:20260424T110038
CREATED:20250327T174822Z
LAST-MODIFIED:20250327T180514Z
UID:33096-1765357200-1765360800@www.edcsarasotacounty.com
SUMMARY:EDC Executive Committee Meeting
DESCRIPTION:A meeting of the Executive Committee of the Economic Development Corporation of Sarasota County will be held on Wednesday\, December 10\, 2025\, 9:00 a.m.\, at 301 N. Cattlemen Road\, Sarasota\, FL 34232 in the First Floor Conference Room. Public welcome to participate.
URL:https://www.edcsarasotacounty.com/event/edc-executive-committee-meeting-18/
LOCATION:EDC of Sarasota County\, 301 N Cattlemen Rd\, First Floor Conference Room\, Sarasota\, FL\, 34232\, United States
CATEGORIES:Noticed Meeting,Public
END:VEVENT
BEGIN:VEVENT
DTSTART;TZID=UTC:20251210T100000
DTEND;TZID=UTC:20251210T110000
DTSTAMP:20260424T110038
CREATED:20250327T175048Z
LAST-MODIFIED:20250327T180449Z
UID:33098-1765360800-1765364400@www.edcsarasotacounty.com
SUMMARY:EDC Governance Committee Meeting
DESCRIPTION:A meeting of the Governance Committee of the Economic Development Corporation of Sarasota County will be held on Wednesday\, December 10\, 2025\, 10:00 a.m.\, at 301 N. Cattlemen Road\, Sarasota\, FL 34232 in the First Floor Conference Room. Public welcome to participate.
URL:https://www.edcsarasotacounty.com/event/edc-governance-committee-meeting-29/
LOCATION:EDC of Sarasota County\, 301 N Cattlemen Rd\, First Floor Conference Room\, Sarasota\, FL\, 34232\, United States
CATEGORIES:Noticed Meeting,Public
END:VEVENT
BEGIN:VEVENT
DTSTART;TZID=UTC:20251216T090000
DTEND;TZID=UTC:20251216T093000
DTSTAMP:20260424T110038
CREATED:20250801T152923Z
LAST-MODIFIED:20250801T152923Z
UID:36167-1765875600-1765877400@www.edcsarasotacounty.com
SUMMARY:EDC Audit Committee Meeting
DESCRIPTION:A meeting of the Audit Committee of the Economic Development Corporation of Sarasota County will be held on Tuesday\, December 16\, 2025\, 9:00 a.m.\, at 301 N. Cattlemen Road\, Sarasota\, FL 34232 in the First Floor Conference Room. Public welcome to participate. \n 
URL:https://www.edcsarasotacounty.com/event/edc-audit-committee-meeting-6/
LOCATION:EDC of Sarasota County\, 301 N Cattlemen Rd\, First Floor Conference Room\, Sarasota\, FL\, 34232\, United States
CATEGORIES:Legal Notice,Noticed Meeting,Public
END:VEVENT
BEGIN:VEVENT
DTSTART;TZID=UTC:20251216T093000
DTEND;TZID=UTC:20251216T103000
DTSTAMP:20260424T110038
CREATED:20250327T175425Z
LAST-MODIFIED:20250801T152950Z
UID:33101-1765877400-1765881000@www.edcsarasotacounty.com
SUMMARY:EDC Finance Committee Meeting
DESCRIPTION:A meeting of the Finance Committee of the Economic Development Corporation of Sarasota County will be held on Tuesday\, December 16\, 2025\, 9:30 a.m.\, at 301 N. Cattlemen Road\, Sarasota\, FL 34232 in the First Floor Conference Room. Public welcome to participate. \n 
URL:https://www.edcsarasotacounty.com/event/edc-finance-committee-meeting-42/
LOCATION:EDC of Sarasota County\, 301 N Cattlemen Rd\, First Floor Conference Room\, Sarasota\, FL\, 34232\, United States
CATEGORIES:Legal Notice,Noticed Meeting,Public
END:VEVENT
BEGIN:VEVENT
DTSTART;TZID=UTC:20251218T090000
DTEND;TZID=UTC:20251218T110000
DTSTAMP:20260424T110038
CREATED:20250327T143747Z
LAST-MODIFIED:20250327T180317Z
UID:33090-1766048400-1766055600@www.edcsarasotacounty.com
SUMMARY:EDC Board of Directors Meeting
DESCRIPTION:A meeting of the Board of Directors of the Economic Development Corporation of Sarasota County will be held on Thursday\, December 18\, 2025\, 9:00 a.m.\, at the Realtor Association of Sarasota Manatee\, 2320 Cattlemen Rd.\, Sarasota\, FL 34232. Public welcome to participate.
URL:https://www.edcsarasotacounty.com/event/edc-board-of-directors-meeting-42/
LOCATION:Realtor Association of Sarasota Manatee\, 2320 Cattlemen Rd.\, Sarasota\, FL\, 34232\, United States
CATEGORIES:Noticed Meeting,Public
END:VEVENT
END:VCALENDAR