BEGIN:VCALENDAR
VERSION:2.0
PRODID:-//EDC - ECPv6.15.17.1//NONSGML v1.0//EN
CALSCALE:GREGORIAN
METHOD:PUBLISH
X-WR-CALNAME:EDC
X-ORIGINAL-URL:https://www.edcsarasotacounty.com
X-WR-CALDESC:Events for EDC
REFRESH-INTERVAL;VALUE=DURATION:PT1H
X-Robots-Tag:noindex
X-PUBLISHED-TTL:PT1H
BEGIN:VTIMEZONE
TZID:UTC
BEGIN:STANDARD
TZOFFSETFROM:+0000
TZOFFSETTO:+0000
TZNAME:UTC
DTSTART:20240101T000000
END:STANDARD
END:VTIMEZONE
BEGIN:VEVENT
DTSTART;TZID=UTC:20251105T090000
DTEND;TZID=UTC:20251105T100000
DTSTAMP:20260424T124154
CREATED:20251027T161235Z
LAST-MODIFIED:20251027T161235Z
UID:38357-1762333200-1762336800@www.edcsarasotacounty.com
SUMMARY:EDC Special Meeting of the Executive Committee
DESCRIPTION:A Special Meeting of the Executive Committee of the Economic Development Corporation of Sarasota County will be held on Wednesday\, November 5\, 9:00 a.m.\, at 301 N. Cattlemen Road\, Sarasota\, FL 34232\, First Floor Conference Room. Public welcome to participate. \n 
URL:https://www.edcsarasotacounty.com/event/edc-special-meeting-of-the-executive-committee/
LOCATION:EDC of Sarasota County\, 301 N Cattlemen Rd\, First Floor Conference Room\, Sarasota\, FL\, 34232\, United States
CATEGORIES:Legal Notice,Noticed Meeting,Public
END:VEVENT
BEGIN:VEVENT
DTSTART;TZID=UTC:20251112T120000
DTEND;TZID=UTC:20251112T133000
DTSTAMP:20260424T124154
CREATED:20251027T165022Z
LAST-MODIFIED:20251027T172052Z
UID:38359-1762948800-1762954200@www.edcsarasotacounty.com
SUMMARY:EDC Past Chairs Luncheon
DESCRIPTION:A meeting of the Past Chairs of the Economic Development Corporation of Sarasota County’s Board of Directors will be held on November 12\, 2025\, 12:00 noon at Brio Italian Grill\, 190 University Town Center Dr\, Sarasota\, FL  34243. Public welcome to attend.
URL:https://www.edcsarasotacounty.com/event/38359/
LOCATION:Brio Italian Grill\, 190 University Town Center Dr.\, Sarasota\, FL\, 34243\, United States
CATEGORIES:Legal Notice,Noticed Meeting,Public
END:VEVENT
BEGIN:VEVENT
DTSTART;TZID=UTC:20251117T113000
DTEND;TZID=UTC:20251117T130000
DTSTAMP:20260424T124154
CREATED:20251027T155146Z
LAST-MODIFIED:20251027T161548Z
UID:38354-1763379000-1763384400@www.edcsarasotacounty.com
SUMMARY:EDC Technology and Innovation Council Meeting
DESCRIPTION:A meeting of the Technology & Innovation Council of the Economic Development Corporation of Sarasota County will be held on Monday\, November 17\, 2025\, at 11:30 a.m.\, at Northern Trust\, 1515 Ringling Boulevard.\, Sarasota\, FL 34236. Public welcome to attend.
URL:https://www.edcsarasotacounty.com/event/edc-technology-and-innovation-council-meeting/
LOCATION:Northern Trust\, 1515 Ringling Boulevard\, Sarasota\, FL\, 34236\, United States
CATEGORIES:Legal Notice,Noticed Meeting,Public
END:VEVENT
END:VCALENDAR