BEGIN:VCALENDAR
VERSION:2.0
PRODID:-//EDC - ECPv6.15.17.1//NONSGML v1.0//EN
CALSCALE:GREGORIAN
METHOD:PUBLISH
X-ORIGINAL-URL:https://www.edcsarasotacounty.com
X-WR-CALDESC:Events for EDC
REFRESH-INTERVAL;VALUE=DURATION:PT1H
X-Robots-Tag:noindex
X-PUBLISHED-TTL:PT1H
BEGIN:VTIMEZONE
TZID:UTC
BEGIN:STANDARD
TZOFFSETFROM:+0000
TZOFFSETTO:+0000
TZNAME:UTC
DTSTART:20240101T000000
END:STANDARD
END:VTIMEZONE
BEGIN:VEVENT
DTSTART;TZID=UTC:20251117T113000
DTEND;TZID=UTC:20251117T130000
DTSTAMP:20260424T144123
CREATED:20251027T155146Z
LAST-MODIFIED:20251027T161548Z
UID:38354-1763379000-1763384400@www.edcsarasotacounty.com
SUMMARY:EDC Technology and Innovation Council Meeting
DESCRIPTION:A meeting of the Technology & Innovation Council of the Economic Development Corporation of Sarasota County will be held on Monday\, November 17\, 2025\, at 11:30 a.m.\, at Northern Trust\, 1515 Ringling Boulevard.\, Sarasota\, FL 34236. Public welcome to attend.
URL:https://www.edcsarasotacounty.com/event/edc-technology-and-innovation-council-meeting/
LOCATION:Northern Trust\, 1515 Ringling Boulevard\, Sarasota\, FL\, 34236\, United States
CATEGORIES:Legal Notice,Noticed Meeting,Public
END:VEVENT
END:VCALENDAR