BEGIN:VCALENDAR
VERSION:2.0
PRODID:-//EDC - ECPv6.15.17.1//NONSGML v1.0//EN
CALSCALE:GREGORIAN
METHOD:PUBLISH
X-ORIGINAL-URL:https://www.edcsarasotacounty.com
X-WR-CALDESC:Events for EDC
REFRESH-INTERVAL;VALUE=DURATION:PT1H
X-Robots-Tag:noindex
X-PUBLISHED-TTL:PT1H
BEGIN:VTIMEZONE
TZID:UTC
BEGIN:STANDARD
TZOFFSETFROM:+0000
TZOFFSETTO:+0000
TZNAME:UTC
DTSTART:20240101T000000
END:STANDARD
END:VTIMEZONE
BEGIN:VEVENT
DTSTART;TZID=UTC:20251030T090000
DTEND;TZID=UTC:20251030T110000
DTSTAMP:20260424T141116
CREATED:20250327T143620Z
LAST-MODIFIED:20250801T150528Z
UID:33087-1761814800-1761822000@www.edcsarasotacounty.com
SUMMARY:EDC Board of Directors Meeting
DESCRIPTION:A meeting of the Board of Directors of the Economic Development Corporation of Sarasota County will be held on Thursday\, October 30\, 2025\, 9:00 a.m.\, at the Realtor Association of Sarasota Manatee\, 2320 Cattlemen Rd.\, Sarasota\, FL 34232. Public welcome to participate.
URL:https://www.edcsarasotacounty.com/event/edc-board-of-directors-meeting-41/
LOCATION:Realtor Association of Sarasota Manatee\, 2320 Cattlemen Rd.\, Sarasota\, FL\, 34232\, United States
CATEGORIES:Noticed Meeting,Public
END:VEVENT
END:VCALENDAR